BEGIN:VCALENDAR
VERSION:2.0
PRODID:-//eventon.com NONSGML v1.0//EN
CALSCALE:GREGORIAN
METHOD:PUBLISH
BEGIN:VEVENT
UID:69e89e20832ca
DTSTAMP:20260422T100832Z
DTSTART:20260228T080000Z
DTEND:20260228T225900Z
LOCATION:Halle Wilhelmshöhe Wilhelmshöhe 2\,  24589 Dätgen
SUMMARY:Jungzüchter-Vorführ­wettbewerb RSH eG
DESCRIPTION:Jungzüchter-Vorführ&shy;wettbewerb RSH eG\nhttps://www.gallow
 ay-jungzuechter.de/events/jungzuechter-vorfuehrwettbewerb-rsh-eg
URL:https://www.galloway-jungzuechter.de/events/jungzuechter-vorfuehrwettbewerb-rsh-eg
END:VEVENT
END:VCALENDAR