BEGIN:VCALENDAR
VERSION:2.0
PRODID:-//eventon.com NONSGML v1.0//EN
CALSCALE:GREGORIAN
METHOD:PUBLISH
BEGIN:VEVENT
UID:69e8a2dad5ed4
DTSTAMP:20260422T102842Z
DTSTART:20260712T070000Z
DTEND:20260712T160000Z
LOCATION:Tarmstedter Ausstellung Wendohweg 1 27412 Tarmstedt
SUMMARY:Jungzüchter­wettbewerb
DESCRIPTION:Jungzüchter&shy;wettbewerb\nhttps://www.galloway-jungzuechter.
 de/events/jungzuechterwettbewerb
URL:https://www.galloway-jungzuechter.de/events/jungzuechterwettbewerb
END:VEVENT
END:VCALENDAR