BEGIN:VCALENDAR
VERSION:2.0
PRODID:-//eventon.com NONSGML v1.0//EN
CALSCALE:GREGORIAN
METHOD:PUBLISH
BEGIN:VEVENT
UID:69e703bddc8c1
DTSTAMP:20260421T045733Z
DTSTART:20240830T150000Z
DTEND:20240901T130000Z
LOCATION:Mechtild Bening Am See 51 23816 Bebensee
SUMMARY:Preisrichterschulung für Fleischrind Jungzüchter
DESCRIPTION:Preisrichterschulung für Fleischrind Jungzüchter\nhttps://www
 .galloway-jungzuechter.de/events/preisrichterschulung-fuer-fleischrind-jung
 zuechter
URL:https://www.galloway-jungzuechter.de/events/preisrichterschulung-fuer-fleischrind-jungzuechter
END:VEVENT
END:VCALENDAR